Package: ChIPseeker Version: 1.42.1 Command: /home/biocbuild/bbs-3.20-bioc/R/bin/R CMD INSTALL ChIPseeker StartedAt: 2025-01-30 15:43:58 -0500 (Thu, 30 Jan 2025) EndedAt: 2025-01-30 15:45:05 -0500 (Thu, 30 Jan 2025) EllapsedTime: 67.2 seconds RetCode: 0 Status: OK