Package: ChIPseeker Version: 1.42.1 Command: rm -rf ChIPseeker.buildbin-libdir && mkdir ChIPseeker.buildbin-libdir && F:\biocbuild\bbs-3.20-bioc\R\bin\R.exe CMD INSTALL --build --library=ChIPseeker.buildbin-libdir ChIPseeker_1.42.1.tar.gz StartedAt: 2025-01-31 08:21:21 -0500 (Fri, 31 Jan 2025) EndedAt: 2025-01-31 08:22:32 -0500 (Fri, 31 Jan 2025) EllapsedTime: 71.0 seconds RetCode: 0 Status: OK PackageFile: ChIPseeker_1.42.1.zip PackageFileSize: 6.63 MiB