Package: ChIPseeker Version: 1.42.1 Command: chmod a+r ChIPseeker -R && F:\biocbuild\bbs-3.20-bioc\R\bin\R.exe CMD build --keep-empty-dirs --no-resave-data ChIPseeker StartedAt: 2025-01-30 17:53:48 -0500 (Thu, 30 Jan 2025) EndedAt: 2025-01-30 18:04:32 -0500 (Thu, 30 Jan 2025) EllapsedTime: 644.0 seconds RetCode: 0 Status: OK PackageFile: ChIPseeker_1.42.1.tar.gz PackageFileSize: 6.642 MiB