Package: ChIPseeker Version: 1.42.1 Command: F:\biocbuild\bbs-3.20-bioc\R\bin\R.exe CMD check --no-multiarch --install=check:ChIPseeker.install-out.txt --library=F:\biocbuild\bbs-3.20-bioc\R\library --no-vignettes --timings ChIPseeker_1.42.1.tar.gz StartedAt: 2025-01-31 00:27:05 -0500 (Fri, 31 Jan 2025) EndedAt: 2025-01-31 00:35:54 -0500 (Fri, 31 Jan 2025) EllapsedTime: 529.3 seconds RetCode: 0 Status: OK CheckDir: ChIPseeker.Rcheck Warnings: 0