Package: ChIPseeker Version: 1.42.1 Command: F:\biocbuild\bbs-3.20-bioc\R\bin\R.exe CMD INSTALL ChIPseeker StartedAt: 2025-01-30 16:27:57 -0500 (Thu, 30 Jan 2025) EndedAt: 2025-01-30 16:29:23 -0500 (Thu, 30 Jan 2025) EllapsedTime: 86.2 seconds RetCode: 0 Status: OK