Package: ChIPseeker Version: 1.42.1 Command: /home/biocbuild/R/R/bin/R CMD build --keep-empty-dirs --no-resave-data ChIPseeker StartedAt: 2025-01-30 22:33:54 -0000 (Thu, 30 Jan 2025) EndedAt: 2025-01-30 22:41:54 -0000 (Thu, 30 Jan 2025) EllapsedTime: 479.6 seconds RetCode: 0 Status: OK PackageFile: ChIPseeker_1.42.1.tar.gz PackageFileSize: 6.679 MiB