Package: ChIPseeker Version: 1.42.1 Command: /home/biocbuild/R/R/bin/R CMD check --install=check:ChIPseeker.install-out.txt --library=/home/biocbuild/R/R/site-library --no-vignettes --timings ChIPseeker_1.42.1.tar.gz StartedAt: 2025-01-31 04:51:06 -0000 (Fri, 31 Jan 2025) EndedAt: 2025-01-31 04:59:54 -0000 (Fri, 31 Jan 2025) EllapsedTime: 528.4 seconds RetCode: 0 Status: OK CheckDir: ChIPseeker.Rcheck Warnings: 0