Package: ChIPseqR Version: 1.60.0 Command: rm -rf ChIPseqR.buildbin-libdir && mkdir ChIPseqR.buildbin-libdir && /Users/biocbuild/BBS/utils/build-universal.sh ChIPseqR_1.60.0.tar.gz /Library/Frameworks/R.framework/Resources/bin/R ChIPseqR.buildbin-libdir StartedAt: 2025-02-05 15:12:16 -0500 (Wed, 05 Feb 2025) EndedAt: 2025-02-05 15:13:02 -0500 (Wed, 05 Feb 2025) EllapsedTime: 46.4 seconds RetCode: 0 Status: OK PackageFile: ChIPseqR_1.60.0.tgz PackageFileSize: 1.489 MiB