Package: ChIPseqR Version: 1.60.0 Command: rm -rf ChIPseqR.buildbin-libdir && mkdir ChIPseqR.buildbin-libdir && /Users/biocbuild/BBS/utils/build-universal.sh ChIPseqR_1.60.0.tar.gz /Library/Frameworks/R.framework/Resources/bin/R ChIPseqR.buildbin-libdir StartedAt: 2025-01-31 12:30:53 -0500 (Fri, 31 Jan 2025) EndedAt: 2025-01-31 12:32:13 -0500 (Fri, 31 Jan 2025) EllapsedTime: 79.3 seconds RetCode: 0 Status: OK PackageFile: ChIPseqR_1.60.0.tgz PackageFileSize: 1.49 MiB