Package: ChIPseqR Version: 1.60.0 Command: /Library/Frameworks/R.framework/Resources/bin/R CMD build --keep-empty-dirs --no-resave-data ChIPseqR StartedAt: 2025-01-30 17:54:09 -0500 (Thu, 30 Jan 2025) EndedAt: 2025-01-30 17:56:52 -0500 (Thu, 30 Jan 2025) EllapsedTime: 163.7 seconds RetCode: 0 Status: OK PackageFile: ChIPseqR_1.60.0.tar.gz PackageFileSize: 729.9 KiB