Package: ChIPseqR Version: 1.60.0 Command: rm -rf ChIPseqR.buildbin-libdir && mkdir ChIPseqR.buildbin-libdir && F:\biocbuild\bbs-3.20-bioc\R\bin\R.exe CMD INSTALL --build --library=ChIPseqR.buildbin-libdir ChIPseqR_1.60.0.tar.gz StartedAt: 2025-01-31 08:21:31 -0500 (Fri, 31 Jan 2025) EndedAt: 2025-01-31 08:22:29 -0500 (Fri, 31 Jan 2025) EllapsedTime: 57.2 seconds RetCode: 0 Status: OK PackageFile: ChIPseqR_1.60.0.zip PackageFileSize: 1.341 MiB