Package: ChIPseqR Version: 1.60.0 Command: chmod a+r ChIPseqR -R && F:\biocbuild\bbs-3.20-bioc\R\bin\R.exe CMD build --keep-empty-dirs --no-resave-data ChIPseqR StartedAt: 2025-02-03 18:07:04 -0500 (Mon, 03 Feb 2025) EndedAt: 2025-02-03 18:08:54 -0500 (Mon, 03 Feb 2025) EllapsedTime: 110.1 seconds RetCode: 0 Status: OK PackageFile: ChIPseqR_1.60.0.tar.gz PackageFileSize: 548.3 KiB