Package: ChIPseqR Version: 1.60.0 Command: /home/biocbuild/R/R/bin/R CMD build --keep-empty-dirs --no-resave-data ChIPseqR StartedAt: 2025-01-30 22:34:47 -0000 (Thu, 30 Jan 2025) EndedAt: 2025-01-30 22:34:48 -0000 (Thu, 30 Jan 2025) EllapsedTime: 1.0 seconds RetCode: 1 Status: ERROR PackageFile: None PackageFileSize: NA