Package: ChIPseqR Version: 1.60.0 Command: /home/biocbuild/R/R/bin/R CMD INSTALL ChIPseqR StartedAt: 2025-01-30 20:31:35 -0000 (Thu, 30 Jan 2025) EndedAt: 2025-01-30 20:31:37 -0000 (Thu, 30 Jan 2025) EllapsedTime: 2.6 seconds RetCode: 1 Status: ERROR