Package: ChIPsim Version: 1.60.0 Command: rm -rf ChIPsim.buildbin-libdir && mkdir ChIPsim.buildbin-libdir && /Users/biocbuild/BBS/utils/build-universal.sh ChIPsim_1.60.0.tar.gz /Library/Frameworks/R.framework/Resources/bin/R ChIPsim.buildbin-libdir StartedAt: 2025-02-01 14:17:29 -0500 (Sat, 01 Feb 2025) EndedAt: 2025-02-01 14:18:07 -0500 (Sat, 01 Feb 2025) EllapsedTime: 38.2 seconds RetCode: 0 Status: OK PackageFile: ChIPsim_1.60.0.tgz PackageFileSize: 759.5 KiB