Package: ChIPsim Version: 1.60.0 Command: rm -rf ChIPsim.buildbin-libdir && mkdir ChIPsim.buildbin-libdir && /Users/biocbuild/BBS/utils/build-universal.sh ChIPsim_1.60.0.tar.gz /Library/Frameworks/R.framework/Resources/bin/R ChIPsim.buildbin-libdir StartedAt: 2025-01-31 12:31:03 -0500 (Fri, 31 Jan 2025) EndedAt: 2025-01-31 12:32:09 -0500 (Fri, 31 Jan 2025) EllapsedTime: 65.4 seconds RetCode: 0 Status: OK PackageFile: ChIPsim_1.60.0.tgz PackageFileSize: 759.8 KiB