Package: ChIPsim Version: 1.60.0 Command: /Library/Frameworks/R.framework/Resources/bin/R CMD build --keep-empty-dirs --no-resave-data ChIPsim StartedAt: 2025-01-30 17:54:16 -0500 (Thu, 30 Jan 2025) EndedAt: 2025-01-30 17:56:53 -0500 (Thu, 30 Jan 2025) EllapsedTime: 157.0 seconds RetCode: 0 Status: OK PackageFile: ChIPsim_1.60.0.tar.gz PackageFileSize: 648.1 KiB