Package: ChIPsim Version: 1.60.0 Command: /Library/Frameworks/R.framework/Resources/bin/R CMD check --install=check:ChIPsim.install-out.txt --library=/Library/Frameworks/R.framework/Resources/library --no-vignettes --timings ChIPsim_1.60.0.tar.gz StartedAt: 2025-01-31 01:33:54 -0500 (Fri, 31 Jan 2025) EndedAt: 2025-01-31 01:40:47 -0500 (Fri, 31 Jan 2025) EllapsedTime: 412.3 seconds RetCode: 0 Status: OK CheckDir: ChIPsim.Rcheck Warnings: 0