Package: ChIPsim Version: 1.60.0 Command: /Library/Frameworks/R.framework/Resources/bin/R CMD INSTALL ChIPsim StartedAt: 2025-01-30 15:46:52 -0500 (Thu, 30 Jan 2025) EndedAt: 2025-01-30 15:48:00 -0500 (Thu, 30 Jan 2025) EllapsedTime: 68.4 seconds RetCode: 0 Status: OK