Package: ChIPsim Version: 1.60.0 Command: /home/biocbuild/bbs-3.20-bioc/R/bin/R CMD build --keep-empty-dirs --no-resave-data --md5 ChIPsim StartedAt: 2025-01-30 16:40:01 -0500 (Thu, 30 Jan 2025) EndedAt: 2025-01-30 16:41:10 -0500 (Thu, 30 Jan 2025) EllapsedTime: 69.1 seconds RetCode: 0 Status: OK PackageFile: ChIPsim_1.60.0.tar.gz PackageFileSize: 648.9 KiB