Package: ChIPsim Version: 1.60.0 Command: /home/biocbuild/bbs-3.20-bioc/R/bin/R CMD INSTALL ChIPsim StartedAt: 2025-01-30 15:26:05 -0500 (Thu, 30 Jan 2025) EndedAt: 2025-01-30 15:26:33 -0500 (Thu, 30 Jan 2025) EllapsedTime: 27.9 seconds RetCode: 0 Status: OK