Package: ChIPsim Version: 1.60.0 Command: rm -rf ChIPsim.buildbin-libdir && mkdir ChIPsim.buildbin-libdir && F:\biocbuild\bbs-3.20-bioc\R\bin\R.exe CMD INSTALL --build --library=ChIPsim.buildbin-libdir ChIPsim_1.60.0.tar.gz StartedAt: 2025-01-31 08:21:37 -0500 (Fri, 31 Jan 2025) EndedAt: 2025-01-31 08:22:15 -0500 (Fri, 31 Jan 2025) EllapsedTime: 37.8 seconds RetCode: 0 Status: OK PackageFile: ChIPsim_1.60.0.zip PackageFileSize: 639.5 KiB