Package: ChIPsim Version: 1.60.0 Command: /home/biocbuild/R/R/bin/R CMD build --keep-empty-dirs --no-resave-data ChIPsim StartedAt: 2025-01-30 22:34:48 -0000 (Thu, 30 Jan 2025) EndedAt: 2025-01-30 22:36:18 -0000 (Thu, 30 Jan 2025) EllapsedTime: 90.0 seconds RetCode: 0 Status: OK PackageFile: ChIPsim_1.60.0.tar.gz PackageFileSize: 636.9 KiB