Package: ChIPsim Version: 1.60.0 Command: /home/biocbuild/R/R/bin/R CMD INSTALL ChIPsim StartedAt: 2025-01-30 20:28:03 -0000 (Thu, 30 Jan 2025) EndedAt: 2025-01-30 20:28:38 -0000 (Thu, 30 Jan 2025) EllapsedTime: 35.7 seconds RetCode: 0 Status: OK