Package: ChemmineR Version: 3.58.0 Command: rm -rf ChemmineR.buildbin-libdir && mkdir ChemmineR.buildbin-libdir && /Users/biocbuild/BBS/utils/build-universal.sh ChemmineR_3.58.0.tar.gz /Library/Frameworks/R.framework/Resources/bin/R ChemmineR.buildbin-libdir StartedAt: 2025-02-05 15:10:45 -0500 (Wed, 05 Feb 2025) EndedAt: 2025-02-05 15:11:18 -0500 (Wed, 05 Feb 2025) EllapsedTime: 32.7 seconds RetCode: 0 Status: OK PackageFile: ChemmineR_3.58.0.tgz PackageFileSize: 2.606 MiB