Package: ChemmineR Version: 3.58.0 Command: rm -rf ChemmineR.buildbin-libdir && mkdir ChemmineR.buildbin-libdir && /Users/biocbuild/BBS/utils/build-universal.sh ChemmineR_3.58.0.tar.gz /Library/Frameworks/R.framework/Resources/bin/R ChemmineR.buildbin-libdir StartedAt: 2024-11-20 04:18:43 -0500 (Wed, 20 Nov 2024) EndedAt: 2024-11-20 04:19:26 -0500 (Wed, 20 Nov 2024) EllapsedTime: 42.4 seconds RetCode: 0 Status: OK PackageFile: ChemmineR_3.58.0.tgz PackageFileSize: 2.61 MiB