Package: ChemmineR Version: 3.58.0 Command: /Library/Frameworks/R.framework/Resources/bin/R CMD INSTALL ChemmineR StartedAt: 2025-02-03 16:39:21 -0500 (Mon, 03 Feb 2025) EndedAt: 2025-02-03 16:40:21 -0500 (Mon, 03 Feb 2025) EllapsedTime: 60.5 seconds RetCode: 0 Status: OK