Package: ChemmineR Version: 3.58.0 Command: /home/biocbuild/bbs-3.20-bioc/R/bin/R CMD check --install=check:ChemmineR.install-out.txt --library=/home/biocbuild/bbs-3.20-bioc/R/site-library --timings ChemmineR_3.58.0.tar.gz StartedAt: 2025-02-03 20:54:31 -0500 (Mon, 03 Feb 2025) EndedAt: 2025-02-03 20:56:53 -0500 (Mon, 03 Feb 2025) EllapsedTime: 142.2 seconds RetCode: 0 Status: WARNINGS CheckDir: ChemmineR.Rcheck Warnings: 2