Package: ChemmineR Version: 3.58.0 Command: rm -rf ChemmineR.buildbin-libdir && mkdir ChemmineR.buildbin-libdir && F:\biocbuild\bbs-3.20-bioc\R\bin\R.exe CMD INSTALL --build --library=ChemmineR.buildbin-libdir ChemmineR_3.58.0.tar.gz StartedAt: 2025-01-31 08:20:43 -0500 (Fri, 31 Jan 2025) EndedAt: 2025-01-31 08:23:58 -0500 (Fri, 31 Jan 2025) EllapsedTime: 194.5 seconds RetCode: 0 Status: OK PackageFile: ChemmineR_3.58.0.zip PackageFileSize: 2.173 MiB