Package: ChemmineR Version: 3.58.0 Command: chmod a+r ChemmineR -R && F:\biocbuild\bbs-3.20-bioc\R\bin\R.exe CMD build --keep-empty-dirs --no-resave-data ChemmineR StartedAt: 2025-02-03 18:05:03 -0500 (Mon, 03 Feb 2025) EndedAt: 2025-02-03 18:07:14 -0500 (Mon, 03 Feb 2025) EllapsedTime: 130.6 seconds RetCode: 0 Status: OK PackageFile: ChemmineR_3.58.0.tar.gz PackageFileSize: 1.579 MiB