Package: ChemmineR Version: 3.58.0 Command: F:\biocbuild\bbs-3.20-bioc\R\bin\R.exe CMD INSTALL ChemmineR StartedAt: 2025-02-03 16:16:35 -0500 (Mon, 03 Feb 2025) EndedAt: 2025-02-03 16:18:52 -0500 (Mon, 03 Feb 2025) EllapsedTime: 137.6 seconds RetCode: 0 Status: OK