Package: ChemmineR Version: 3.58.0 Command: /home/biocbuild/R/R/bin/R CMD build --keep-empty-dirs --no-resave-data ChemmineR StartedAt: 2025-02-03 22:32:45 -0000 (Mon, 03 Feb 2025) EndedAt: 2025-02-03 22:33:57 -0000 (Mon, 03 Feb 2025) EllapsedTime: 72.0 seconds RetCode: 0 Status: OK PackageFile: ChemmineR_3.58.0.tar.gz PackageFileSize: 1.642 MiB