Package: ChemmineR Version: 3.58.0 Command: /home/biocbuild/R/R/bin/R CMD check --install=check:ChemmineR.install-out.txt --library=/home/biocbuild/R/R/site-library --no-vignettes --timings ChemmineR_3.58.0.tar.gz StartedAt: 2025-01-31 04:49:19 -0000 (Fri, 31 Jan 2025) EndedAt: 2025-01-31 04:51:22 -0000 (Fri, 31 Jan 2025) EllapsedTime: 123.1 seconds RetCode: 0 Status: WARNINGS CheckDir: ChemmineR.Rcheck Warnings: 2