Package: Chicago Version: 1.34.0 Command: rm -rf Chicago.buildbin-libdir && mkdir Chicago.buildbin-libdir && /Users/biocbuild/BBS/utils/build-universal.sh Chicago_1.34.0.tar.gz /Library/Frameworks/R.framework/Resources/bin/R Chicago.buildbin-libdir StartedAt: 2025-02-12 14:25:08 -0500 (Wed, 12 Feb 2025) EndedAt: 2025-02-12 14:25:19 -0500 (Wed, 12 Feb 2025) EllapsedTime: 10.3 seconds RetCode: 0 Status: OK PackageFile: Chicago_1.34.0.tgz PackageFileSize: 1.457 MiB