Package: Chicago Version: 1.34.0 Command: /Library/Frameworks/R.framework/Resources/bin/R CMD build --keep-empty-dirs --no-resave-data Chicago StartedAt: 2025-02-03 17:47:46 -0500 (Mon, 03 Feb 2025) EndedAt: 2025-02-03 17:50:36 -0500 (Mon, 03 Feb 2025) EllapsedTime: 170.2 seconds RetCode: 0 Status: OK PackageFile: Chicago_1.34.0.tar.gz PackageFileSize: 1.21 MiB