Package: Chicago Version: 1.34.0 Command: /home/biocbuild/bbs-3.20-bioc/R/bin/R CMD INSTALL Chicago StartedAt: 2025-02-03 15:41:03 -0500 (Mon, 03 Feb 2025) EndedAt: 2025-02-03 15:41:11 -0500 (Mon, 03 Feb 2025) EllapsedTime: 7.6 seconds RetCode: 0 Status: OK