Package: ChromHeatMap Version: 1.60.0 Command: rm -rf ChromHeatMap.buildbin-libdir && mkdir ChromHeatMap.buildbin-libdir && /Users/biocbuild/BBS/utils/build-universal.sh ChromHeatMap_1.60.0.tar.gz /Library/Frameworks/R.framework/Resources/bin/R ChromHeatMap.buildbin-libdir StartedAt: 2025-02-05 15:13:11 -0500 (Wed, 05 Feb 2025) EndedAt: 2025-02-05 15:13:55 -0500 (Wed, 05 Feb 2025) EllapsedTime: 44.0 seconds RetCode: 0 Status: OK PackageFile: ChromHeatMap_1.60.0.tgz PackageFileSize: 670.1 KiB