Package: ChromHeatMap Version: 1.60.0 Command: /Library/Frameworks/R.framework/Resources/bin/R CMD INSTALL ChromHeatMap StartedAt: 2025-02-03 15:54:09 -0500 (Mon, 03 Feb 2025) EndedAt: 2025-02-03 15:54:50 -0500 (Mon, 03 Feb 2025) EllapsedTime: 40.6 seconds RetCode: 0 Status: OK