Package: ChromHeatMap Version: 1.60.0 Command: /Library/Frameworks/R.framework/Resources/bin/R CMD build --keep-empty-dirs --no-resave-data ChromHeatMap StartedAt: 2025-02-03 17:51:14 -0500 (Mon, 03 Feb 2025) EndedAt: 2025-02-03 17:53:00 -0500 (Mon, 03 Feb 2025) EllapsedTime: 105.6 seconds RetCode: 0 Status: OK PackageFile: ChromHeatMap_1.60.0.tar.gz PackageFileSize: 317.5 KiB