Package: ChromHeatMap Version: 1.60.0 Command: /Library/Frameworks/R.framework/Resources/bin/R CMD check --install=check:ChromHeatMap.install-out.txt --library=/Library/Frameworks/R.framework/Resources/library --no-vignettes --timings ChromHeatMap_1.60.0.tar.gz StartedAt: 2025-02-04 01:12:05 -0500 (Tue, 04 Feb 2025) EndedAt: 2025-02-04 01:20:33 -0500 (Tue, 04 Feb 2025) EllapsedTime: 508.8 seconds RetCode: 0 Status: OK CheckDir: ChromHeatMap.Rcheck Warnings: 0