Package: ChromHeatMap Version: 1.60.0 Command: /home/biocbuild/bbs-3.20-bioc/R/bin/R CMD build --keep-empty-dirs --no-resave-data --md5 ChromHeatMap StartedAt: 2025-01-30 16:40:18 -0500 (Thu, 30 Jan 2025) EndedAt: 2025-01-30 16:41:08 -0500 (Thu, 30 Jan 2025) EllapsedTime: 50.1 seconds RetCode: 0 Status: OK PackageFile: ChromHeatMap_1.60.0.tar.gz PackageFileSize: 319.2 KiB