Package: ChromHeatMap Version: 1.60.0 Command: /home/biocbuild/bbs-3.20-bioc/R/bin/R CMD INSTALL ChromHeatMap StartedAt: 2025-02-03 15:30:56 -0500 (Mon, 03 Feb 2025) EndedAt: 2025-02-03 15:31:30 -0500 (Mon, 03 Feb 2025) EllapsedTime: 34.0 seconds RetCode: 0 Status: OK