Package: ChromHeatMap Version: 1.60.0 Command: /home/biocbuild/R/R/bin/R CMD build --keep-empty-dirs --no-resave-data ChromHeatMap StartedAt: 2025-01-30 22:36:09 -0000 (Thu, 30 Jan 2025) EndedAt: 2025-01-30 22:37:06 -0000 (Thu, 30 Jan 2025) EllapsedTime: 57.0 seconds RetCode: 0 Status: OK PackageFile: ChromHeatMap_1.60.0.tar.gz PackageFileSize: 310.9 KiB