Package: ChromSCape Version: 1.16.0 Command: rm -rf ChromSCape.buildbin-libdir && mkdir ChromSCape.buildbin-libdir && /Users/biocbuild/BBS/utils/build-universal.sh ChromSCape_1.16.0.tar.gz /Library/Frameworks/R.framework/Resources/bin/R ChromSCape.buildbin-libdir StartedAt: 2025-02-01 14:18:23 -0500 (Sat, 01 Feb 2025) EndedAt: 2025-02-01 14:19:30 -0500 (Sat, 01 Feb 2025) EllapsedTime: 67.5 seconds RetCode: 0 Status: OK PackageFile: ChromSCape_1.16.0.tgz PackageFileSize: 5.794 MiB