Package: ChromSCape Version: 1.16.0 Command: /Library/Frameworks/R.framework/Resources/bin/R CMD check --install=check:ChromSCape.install-out.txt --library=/Library/Frameworks/R.framework/Resources/library --no-vignettes --timings ChromSCape_1.16.0.tar.gz StartedAt: 2025-01-31 14:20:06 -0500 (Fri, 31 Jan 2025) EndedAt: 2025-01-31 14:35:05 -0500 (Fri, 31 Jan 2025) EllapsedTime: 899.9 seconds RetCode: 0 Status: WARNINGS CheckDir: ChromSCape.Rcheck Warnings: 3