Package: ChromSCape Version: 1.16.0 Command: /home/biocbuild/bbs-3.20-bioc/R/bin/R CMD build --keep-empty-dirs --no-resave-data --md5 ChromSCape StartedAt: 2025-02-03 16:49:57 -0500 (Mon, 03 Feb 2025) EndedAt: 2025-02-03 16:51:05 -0500 (Mon, 03 Feb 2025) EllapsedTime: 68.1 seconds RetCode: 0 Status: OK PackageFile: ChromSCape_1.16.0.tar.gz PackageFileSize: 5.309 MiB