Package: ChromSCape Version: 1.16.0 Command: /home/biocbuild/R/R/bin/R CMD build --keep-empty-dirs --no-resave-data ChromSCape StartedAt: 2025-02-10 22:23:17 -0000 (Mon, 10 Feb 2025) EndedAt: 2025-02-10 22:24:41 -0000 (Mon, 10 Feb 2025) EllapsedTime: 84.0 seconds RetCode: 0 Status: OK PackageFile: ChromSCape_1.16.0.tar.gz PackageFileSize: 5.326 MiB