Package: ChromSCape Version: 1.16.0 Command: /home/biocbuild/R/R/bin/R CMD INSTALL ChromSCape StartedAt: 2025-02-10 21:09:33 -0000 (Mon, 10 Feb 2025) EndedAt: 2025-02-10 21:10:40 -0000 (Mon, 10 Feb 2025) EllapsedTime: 67.9 seconds RetCode: 0 Status: OK