Package: CircSeqAlignTk Version: 1.8.0 Command: rm -rf CircSeqAlignTk.buildbin-libdir && mkdir CircSeqAlignTk.buildbin-libdir && /Users/biocbuild/BBS/utils/build-universal.sh CircSeqAlignTk_1.8.0.tar.gz /Library/Frameworks/R.framework/Resources/bin/R CircSeqAlignTk.buildbin-libdir StartedAt: 2025-02-05 15:14:32 -0500 (Wed, 05 Feb 2025) EndedAt: 2025-02-05 15:15:29 -0500 (Wed, 05 Feb 2025) EllapsedTime: 57.4 seconds RetCode: 0 Status: OK PackageFile: CircSeqAlignTk_1.8.0.tgz PackageFileSize: 1.992 MiB