Package: CircSeqAlignTk Version: 1.8.0 Command: /Library/Frameworks/R.framework/Resources/bin/R CMD build --keep-empty-dirs --no-resave-data CircSeqAlignTk StartedAt: 2025-02-03 20:45:22 -0500 (Mon, 03 Feb 2025) EndedAt: 2025-02-03 20:49:03 -0500 (Mon, 03 Feb 2025) EllapsedTime: 220.5 seconds RetCode: 0 Status: OK PackageFile: CircSeqAlignTk_1.8.0.tar.gz PackageFileSize: 2.05 MiB